BEGIN:VCALENDAR
VERSION:2.0
PRODID:-//Contratero//ES
CALSCALE:GREGORIAN
METHOD:PUBLISH
BEGIN:VEVENT
UID:11.80 2025/00016NSP@contratero.es
DTSTAMP:20260420T062739Z
DTSTART:20250331T235959
DTEND:20250401T005959
SUMMARY:Cierre: Servicio de apoyo de la gestión de personal a trav
DESCRIPTION:Servicio de apoyo de la gestión de personal a través del programa\nGESCAI en el CRMF de San Fernando.\\n\\nOrganismo: Dirección Gerente del Centro de Recuperación de Personas con Discapacidad Física (IMSERSO) Cádiz\\n\\nVer en Contratero: https://contratero.es/contracts/11.80 2025/00016NSP
URL:https://contratero.es/contracts/11.80 2025/00016NSP
STATUS:CONFIRMED
BEGIN:VALARM
TRIGGER:-P1D
ACTION:DISPLAY
DESCRIPTION:Recordatorio: Servicio de apoyo de la gestió
END:VALARM
END:VEVENT
END:VCALENDAR